BEGIN:VCALENDAR
VERSION:2.0
PRODID:-//ChamberMaster//Event Calendar 2.0//EN
METHOD:PUBLISH
X-PUBLISHED-TTL:P3D
REFRESH-INTERVAL:P3D
CALSCALE:GREGORIAN
BEGIN:VEVENT
DTSTART:20170510T163000Z
DTEND:20170510T180000Z
X-MICROSOFT-CDO-ALLDAYEVENT:FALSE
SUMMARY:Membership Meeting & Luncheon
DESCRIPTION:Speaker: COL Len Waterworth ~ The Ike Dike\n\n\n\nLunch Provided by:
X-ALT-DESC;FMTTYPE=text/html:Speaker:&nbsp\;<span style="color:#1F497D\;"><span style="font-family:calibri\,sans-serif\;"><span style="font-size:11.0pt\;">COL Len Waterworth&nbsp\;~ The Ike Dike</span></span></span><br />\n<br />\nLunch Provided by:&nbsp\;
LOCATION:Pentecostals of Santa Fe Church 12811 FM 1764 Santa Fe\, Texas
UID:e.451.6166
SEQUENCE:3
DTSTAMP:20260424T123506Z
URL:https://www.santafetxchamber.com/events/details/membership-meeting-luncheon-05-10-2017-6166
END:VEVENT

END:VCALENDAR
