BEGIN:VCALENDAR
VERSION:2.0
PRODID:-//ChamberMaster//Event Calendar 2.0//EN
METHOD:PUBLISH
X-PUBLISHED-TTL:P3D
REFRESH-INTERVAL:P3D
CALSCALE:GREGORIAN
BEGIN:VEVENT
DTSTART:20170412T163000Z
DTEND:20170412T180000Z
X-MICROSOFT-CDO-ALLDAYEVENT:FALSE
SUMMARY:Membership Meeting & Luncheon
DESCRIPTION:Speaker:  Bob Clark with Helping a Hero Organization\n\n\n\nLunch Provided by: Kat's BBQ
X-ALT-DESC;FMTTYPE=text/html:Speaker: &nbsp\;Bob Clark with Helping a Hero Organization<br />\n<br />\nLunch Provided by: Kat&#39\;s BBQ
LOCATION:Pentecostals of Santa Fe Church 12811 FM 1764 Santa Fe\, Texas
UID:e.451.6165
SEQUENCE:3
DTSTAMP:20260424T123546Z
URL:https://www.santafetxchamber.com/events/details/membership-meeting-luncheon-04-12-2017-6165
END:VEVENT

END:VCALENDAR
