BEGIN:VCALENDAR
VERSION:2.0
PRODID:-//ChamberMaster//Event Calendar 2.0//EN
METHOD:PUBLISH
X-PUBLISHED-TTL:P3D
REFRESH-INTERVAL:P3D
CALSCALE:GREGORIAN
BEGIN:VEVENT
DTSTART:20170308T173000Z
DTEND:20170308T190000Z
X-MICROSOFT-CDO-ALLDAYEVENT:FALSE
SUMMARY:Membership Meeting & Luncheon
DESCRIPTION:Speaker:  \n\n\n\nLunch Provided by:
X-ALT-DESC;FMTTYPE=text/html:Speaker: &nbsp\;<br />\n<br />\nLunch Provided by:&nbsp\;
LOCATION:Pentecostals of Santa Fe Church 12811 FM 1764 Santa Fe\, Texas
UID:e.451.6164
SEQUENCE:3
DTSTAMP:20260424T141120Z
URL:https://www.santafetxchamber.com/events/details/membership-meeting-luncheon-03-08-2017-6164
END:VEVENT

END:VCALENDAR
