BEGIN:VCALENDAR
VERSION:2.0
PRODID:-//ChamberMaster//Event Calendar 2.0//EN
METHOD:PUBLISH
X-PUBLISHED-TTL:P3D
REFRESH-INTERVAL:P3D
CALSCALE:GREGORIAN
BEGIN:VEVENT
DTSTART:20190619T220000Z
DTEND:20190620T010000Z
X-MICROSOFT-CDO-ALLDAYEVENT:FALSE
SUMMARY:Mega Sports Camp - Dayspring Church
DESCRIPTION:
X-ALT-DESC;FMTTYPE=text/html:
LOCATION:
UID:e.451.7250
SEQUENCE:3
DTSTAMP:20260422T232812Z
URL:https://www.santafetxchamber.com/events/details/mega-sports-camp-dayspring-church-06-19-2019-7250
END:VEVENT

END:VCALENDAR
