BEGIN:VCALENDAR
VERSION:2.0
PRODID:-//ChamberMaster//Event Calendar 2.0//EN
METHOD:PUBLISH
X-PUBLISHED-TTL:P3D
REFRESH-INTERVAL:P3D
CALSCALE:GREGORIAN
BEGIN:VEVENT
DTSTART:20160826T150000Z
DTEND:20160826T210000Z
X-MICROSOFT-CDO-ALLDAYEVENT:FALSE
SUMMARY:McRee Ford Drive 4 UR School
DESCRIPTION:Take a no-hassle\, 10-minute test drive in a new McRee vehicle and Ford will donate $20 on your behalf to the Santa Fe Texas Education Foundation.
X-ALT-DESC;FMTTYPE=text/html:Take a no-hassle\, 10-minute test drive in a new McRee&nbsp\;vehicle and Ford will donate $20 on your behalf to the Santa Fe Texas Education Foundation.
LOCATION:Santa Fe High School Parking Lot
UID:e.451.5236
SEQUENCE:3
DTSTAMP:20260425T041529Z
URL:https://www.santafetxchamber.com/events/details/mcree-ford-drive-4-ur-school-5236
END:VEVENT

END:VCALENDAR
