BEGIN:VCALENDAR
VERSION:2.0
PRODID:-//ChamberMaster//Event Calendar 2.0//EN
METHOD:PUBLISH
X-PUBLISHED-TTL:P3D
REFRESH-INTERVAL:P3D
CALSCALE:GREGORIAN
BEGIN:VEVENT
DTSTART:20190202T200000Z
DTEND:20190202T230000Z
X-MICROSOFT-CDO-ALLDAYEVENT:FALSE
SUMMARY:Mama Mia presented by SFISD
DESCRIPTION:Come out to the SFHS Auditorium to hear the biggest hits of ABBA in SFISD's production of MAMMA MIA! \n\n\n\nTickets are $10 for Adults and $5 for students/staff. The show will run Jan 31st\, Feb 1st\, Feb 2nd at 7pm\, and Feb 2nd at 2pm. SFHS and SFJH students and staff have collaborated to bring to life the exciting story of a girl who is on a mission to find her real father. \n\n\n\nPlease email gunnar.tietge@sfisd.org or haley.tucker@sfisd.org for more information! We can't wait to see you all there!
X-ALT-DESC;FMTTYPE=text/html:<span style="font-size:12px\;"><span style="font-family:verdana\;"><span style="color: rgb(29\, 33\, 41)\; white-space: pre-wrap\;">Come out to the SFHS Auditorium to hear the biggest hits of ABBA in SFISD&#39\;s production of MAMMA MIA! </span><br style="color: rgb(29\, 33\, 41)\; font-family: Helvetica\, Arial\, sans-serif\; font-size: 14px\; white-space: pre-wrap\;" />\n<br style="color: rgb(29\, 33\, 41)\; font-family: Helvetica\, Arial\, sans-serif\; font-size: 14px\; white-space: pre-wrap\;" />\n<span style="color: rgb(29\, 33\, 41)\; white-space: pre-wrap\;">Tickets are $10 for Adults and $5 for students/staff. The show will run Jan 31st\, Feb 1st\, Feb 2nd at 7pm\, and Feb 2nd at 2pm. SFHS and SFJH students and staff have collaborated to bring to life the exciting story of a girl who is on a mission to find her real father. </span><br style="color: rgb(29\, 33\, 41)\; font-family: Helvetica\, Arial\, sans-serif\; font-size: 14px\; white-space: pre-wrap\;" />\n<br style="color: rgb(29\, 33\, 41)\; font-family: Helvetica\, Arial\, sans-serif\; font-size: 14px\; white-space: pre-wrap\;" />\n<span style="color: rgb(29\, 33\, 41)\; white-space: pre-wrap\;">Please email gunnar.tietge@sfisd.org or haley.tucker@sfisd.org for more information! We can&#39\;t wait to see you all there!</span></span></span>
LOCATION:Santa Fe High School Auditorium
UID:e.451.6676
SEQUENCE:3
DTSTAMP:20260423T062806Z
URL:https://www.santafetxchamber.com/events/details/mama-mia-presented-by-sfisd-6676
END:VEVENT

END:VCALENDAR
