BEGIN:VCALENDAR
VERSION:2.0
PRODID:-//ChamberMaster//Event Calendar 2.0//EN
METHOD:PUBLISH
X-PUBLISHED-TTL:P3D
REFRESH-INTERVAL:P3D
CALSCALE:GREGORIAN
BEGIN:VEVENT
DTSTART:20160116T170000Z
DTEND:20160116T190000Z
X-MICROSOFT-CDO-ALLDAYEVENT:FALSE
SUMMARY:Lone Star Pharmacy Anniversary Party_2016
DESCRIPTION:One Year Annivesary Party!\n\nCustomer Appreciation
X-ALT-DESC;FMTTYPE=text/html:One Year Annivesary Party!<br />\nCustomer Appreciation
LOCATION:
UID:e.451.5152
SEQUENCE:3
DTSTAMP:20260425T153201Z
URL:https://www.santafetxchamber.com/events/details/lone-star-pharmacy-anniversary-party_2016-01-16-2016-5152
END:VEVENT

END:VCALENDAR
