BEGIN:VCALENDAR
VERSION:2.0
PRODID:-//ChamberMaster//Event Calendar 2.0//EN
METHOD:PUBLISH
X-PUBLISHED-TTL:P3D
REFRESH-INTERVAL:P3D
CALSCALE:GREGORIAN
BEGIN:VEVENT
DTSTART;VALUE=DATE:20190326
DTEND;VALUE=DATE:20190327
TRANSP:TRANSPARENT
X-MICROSOFT-CDO-ALLDAYEVENT:TRUE
SUMMARY:Life Line Screening - The Power of Prevention
DESCRIPTION:Life Line Screening will be performing a day of preventive health screenings at First Baptist Church of Alta Loma on Tuesday\, March 26th.
X-ALT-DESC;FMTTYPE=text/html:Life Line Screening will be performing a day of preventive health screenings at First Baptist Church of Alta Loma on Tuesday\, March 26th.
LOCATION:
UID:e.451.7010
SEQUENCE:3
DTSTAMP:20260423T033533Z
URL:https://www.santafetxchamber.com/events/details/life-line-screening-the-power-of-prevention-7010
END:VEVENT

END:VCALENDAR
