BEGIN:VCALENDAR
VERSION:2.0
PRODID:-//ChamberMaster//Event Calendar 2.0//EN
METHOD:PUBLISH
X-PUBLISHED-TTL:P3D
REFRESH-INTERVAL:P3D
CALSCALE:GREGORIAN
BEGIN:VEVENT
DTSTART:20190426T233000Z
DTEND:20190427T040000Z
X-MICROSOFT-CDO-ALLDAYEVENT:FALSE
SUMMARY:Libbie's Place 60's Beach Bash
DESCRIPTION:Help support Libbie's Place Senior Day Progam...\n\nSilent Auction\, Prize Drawings\, Dinner by "The Kitchen" and Dancing\n\n\n\nat Moody Methodist Church in Galveston
X-ALT-DESC;FMTTYPE=text/html:Help support Libbie&#39\;s Place Senior Day Progam...<br />\nSilent Auction\, Prize Drawings\, Dinner by &quot\;The Kitchen&quot\; and Dancing<br />\n<br />\nat Moody Methodist Church in Galveston
LOCATION:
UID:e.451.7247
SEQUENCE:3
DTSTAMP:20260423T031934Z
URL:https://www.santafetxchamber.com/events/details/libbie-s-place-60-s-beach-bash-7247
END:VEVENT

END:VCALENDAR
