BEGIN:VCALENDAR
VERSION:2.0
PRODID:-//ChamberMaster//Event Calendar 2.0//EN
METHOD:PUBLISH
X-PUBLISHED-TTL:P3D
REFRESH-INTERVAL:P3D
CALSCALE:GREGORIAN
BEGIN:VEVENT
DTSTART:20170421T233000Z
DTEND:20170422T030000Z
X-MICROSOFT-CDO-ALLDAYEVENT:FALSE
SUMMARY:Libbie's Luau 2017
DESCRIPTION:A Tropical Evening of Dining and Island Music\n\nbenefiting Libbie's Place Senior Day Program\n\nDinner provided by Lighthouse Charity Cook-Off Team
X-ALT-DESC;FMTTYPE=text/html:A Tropical Evening of Dining and Island Music<br />\nbenefiting&nbsp\;Libbie&#39\;s Place Senior Day Program<br />\nDinner provided by Lighthouse Charity Cook-Off Team
LOCATION:
UID:e.451.6190
SEQUENCE:3
DTSTAMP:20260424T123026Z
URL:https://www.santafetxchamber.com/events/details/libbie-s-luau-2017-6190
END:VEVENT

END:VCALENDAR
