BEGIN:VCALENDAR
VERSION:2.0
PRODID:-//ChamberMaster//Event Calendar 2.0//EN
METHOD:PUBLISH
X-PUBLISHED-TTL:P3D
REFRESH-INTERVAL:P3D
CALSCALE:GREGORIAN
BEGIN:VEVENT
DTSTART;VALUE=DATE:20170507
DTEND;VALUE=DATE:20170508
TRANSP:TRANSPARENT
X-MICROSOFT-CDO-ALLDAYEVENT:TRUE
SUMMARY:Lemonade Day
DESCRIPTION:Have you ever heard of Lemonade Day??? Lemonade Day\, https://lemonadeday.org/\, is a fun\, experiential program that teaches youth how to start\, own and operate their very own business - a lemonade stand. Each year\, in participating cities\, youth have the opportunity to experience entrepreneurship by setting up their business during their city's community-wide Lemonade Day. \n\nBy teaching key analytical skills\, financial literacy\, and decision making\, we foster self-esteem and new mindsets that can propel youth to success. Our mission is to help today's youth to become the business leaders\, social advocates\, community volunteers and forward-thinking citizens of tomorrow.\n\nWant to know more? Watch our video!
X-ALT-DESC;FMTTYPE=text/html:<p style="margin-top:0in\;margin-right:0in\;margin-bottom:7.5pt\;margin-left:0in\;\nline-height:21.0pt\;background:#FFFEE0"><span style="font-family:&quot\;Georgia&quot\;\,&quot\;serif&quot\;\;\ncolor:black">Have you ever heard of Lemonade Day??? </span><span style="font-family: Georgia\, serif\;">Lemonade Day\, <a href="https://lemonadeday.org/" target="_blank">https://lemonadeday.org/</a>\, is a fun\, experiential program that teaches youth how to start\, own and operate their very own business - a lemonade stand. Each year\, in participating cities\, youth have the opportunity to experience entrepreneurship by setting up their business during their city&#39\;s community-wide Lemonade Day.&nbsp\;</span><span style="color:black"><o:p></o:p></span></p>\n\n<p style="margin: 0in 0in 7.5pt\; line-height: 21pt\; background: rgb(255\, 254\, 224)\; box-sizing: border-box\;"><span style="font-family: Georgia\, serif\;">By teaching key analytical skills\, financial literacy\, and decision making\, we foster self-esteem and new mindsets that can propel youth to success. Our mission is to help today&#39\;s youth to become the business leaders\, social advocates\, community volunteers and forward-thinking citizens of tomorrow.</span><span style="color:black"><o:p></o:p></span></p>\n\n<p style="margin: 0in 0in 7.5pt\; line-height: 21pt\; background: rgb(255\, 254\, 224)\; box-sizing: border-box\;"><span style="font-family: Georgia\, serif\;">Want to know more?<span class="apple-converted-space">&nbsp\;</span><a href="https://lemonadeday.org/homepagevideo" target="_blank"><span style="color:#EA252E">Watch our video!</span></a></span><span style="color:\nblack"><o:p></o:p></span></p>\n
LOCATION:
UID:e.451.6201
SEQUENCE:3
DTSTAMP:20260424T112409Z
URL:https://www.santafetxchamber.com/events/details/lemonade-day-6201
END:VEVENT

END:VCALENDAR
