BEGIN:VCALENDAR
VERSION:2.0
PRODID:-//ChamberMaster//Event Calendar 2.0//EN
METHOD:PUBLISH
X-PUBLISHED-TTL:P3D
REFRESH-INTERVAL:P3D
CALSCALE:GREGORIAN
BEGIN:VEVENT
DTSTART:20260819T133000Z
DTEND:20260819T210000Z
X-MICROSOFT-CDO-ALLDAYEVENT:FALSE
SUMMARY:Leadership Santa Fe 2026
DESCRIPTION:
X-ALT-DESC;FMTTYPE=text/html:
LOCATION:
UID:e.451.9906
SEQUENCE:3
DTSTAMP:20260421T070702Z
URL:https://www.santafetxchamber.com/events/details/leadership-santa-fe-2026-08-19-2026-9906
END:VEVENT

END:VCALENDAR
