BEGIN:VCALENDAR
VERSION:2.0
PRODID:-//ChamberMaster//Event Calendar 2.0//EN
METHOD:PUBLISH
X-PUBLISHED-TTL:P3D
REFRESH-INTERVAL:P3D
CALSCALE:GREGORIAN
BEGIN:VEVENT
DTSTART:20260520T133000Z
DTEND:20260520T210000Z
X-MICROSOFT-CDO-ALLDAYEVENT:FALSE
SUMMARY:Leadership Santa Fe 2026
DESCRIPTION:
X-ALT-DESC;FMTTYPE=text/html:
LOCATION:
UID:e.451.9903
SEQUENCE:3
DTSTAMP:20260421T070304Z
URL:https://www.santafetxchamber.com/events/details/leadership-santa-fe-2026-05-20-2026-9903
END:VEVENT

END:VCALENDAR
