BEGIN:VCALENDAR
VERSION:2.0
PRODID:-//ChamberMaster//Event Calendar 2.0//EN
METHOD:PUBLISH
X-PUBLISHED-TTL:P3D
REFRESH-INTERVAL:P3D
CALSCALE:GREGORIAN
BEGIN:VEVENT
DTSTART:20150521T160000Z
DTEND:20150521T190000Z
X-MICROSOFT-CDO-ALLDAYEVENT:FALSE
SUMMARY:Law Enforcement Day in Galveston
DESCRIPTION:Law Enforcement Saftey Day Hosting 20+ Agencies\n\n22nd Street between Church & Ball Street in Galveston
X-ALT-DESC;FMTTYPE=text/html:Law Enforcement Saftey&nbsp\;Day Hosting 20+ Agencies<br />\n22nd Street between Church &amp\; Ball Street in Galveston
LOCATION:
UID:e.451.4088
SEQUENCE:3
DTSTAMP:20260426T040237Z
URL:https://www.santafetxchamber.com/events/details/law-enforcement-day-in-galveston-05-21-2015-4088
END:VEVENT

END:VCALENDAR
