BEGIN:VCALENDAR
VERSION:2.0
PRODID:-//ChamberMaster//Event Calendar 2.0//EN
METHOD:PUBLISH
X-PUBLISHED-TTL:P3D
REFRESH-INTERVAL:P3D
CALSCALE:GREGORIAN
BEGIN:VEVENT
DTSTART:20160213T010000Z
DTEND:20160213T050000Z
X-MICROSOFT-CDO-ALLDAYEVENT:FALSE
SUMMARY:Las Vegas Night_2016
DESCRIPTION:Click HERE for Sponsorship and additional information.
X-ALT-DESC;FMTTYPE=text/html:Click <a href="http://cloud.chambermaster.com/userfiles/UserFiles/chambers/451/File/sponsor_package_2016.pdf">HERE</a> for Sponsorship and additional information.
LOCATION:Ed Pickett Hall\, Galveston County Fairgrounds on Highway 6
UID:e.451.5151
SEQUENCE:3
DTSTAMP:20260425T133905Z
URL:https://www.santafetxchamber.com/events/details/las-vegas-night_2016-02-12-2016-5151
END:VEVENT

END:VCALENDAR
