BEGIN:VCALENDAR
VERSION:2.0
PRODID:-//ChamberMaster//Event Calendar 2.0//EN
METHOD:PUBLISH
X-PUBLISHED-TTL:P3D
REFRESH-INTERVAL:P3D
CALSCALE:GREGORIAN
BEGIN:VEVENT
DTSTART:20190216T010000Z
DTEND:20190216T050000Z
X-MICROSOFT-CDO-ALLDAYEVENT:FALSE
SUMMARY:Las Vegas Night ~ Galveston County Fair & Rodeo
DESCRIPTION:Vegas comes to the Galveston County Fair and Rodeo! Take your seat at the gaming table for poker\, texas hold 'em\, Craps\, Roulette or Black Jack. No Cover Charge. $10 for $10\,000 in chips to play games. Benefits our scholarship program.
X-ALT-DESC;FMTTYPE=text/html:<span style="color: rgb(29\, 33\, 41)\; font-family: Helvetica\, Arial\, sans-serif\; font-size: 14px\; white-space: pre-wrap\;">Vegas comes to the Galveston County Fair and Rodeo! Take your seat at the gaming table for poker\, texas hold &#39\;em\, Craps\, Roulette or Black Jack. No Cover Charge. $10 for $10\,000 in chips to play games. Benefits our scholarship program.</span>
LOCATION:
UID:e.451.6684
SEQUENCE:3
DTSTAMP:20260423T063340Z
URL:https://www.santafetxchamber.com/events/details/las-vegas-night-galveston-county-fair-rodeo-6684
END:VEVENT

END:VCALENDAR
