BEGIN:VCALENDAR
VERSION:2.0
PRODID:-//ChamberMaster//Event Calendar 2.0//EN
METHOD:PUBLISH
X-PUBLISHED-TTL:P3D
REFRESH-INTERVAL:P3D
CALSCALE:GREGORIAN
BEGIN:VEVENT
DTSTART;VALUE=DATE:20180902
DTEND;VALUE=DATE:20180903
TRANSP:TRANSPARENT
X-MICROSOFT-CDO-ALLDAYEVENT:TRUE
SUMMARY:Labor Day Celebration & Grape Stomp
DESCRIPTION:Celebration & Grape Stomp\n\nAlready Gone\n\nEagles Tribute Band
X-ALT-DESC;FMTTYPE=text/html:Celebration &amp\; Grape Stomp<br />\nAlready Gone<br />\nEagles Tribute Band
LOCATION:
UID:e.451.6620
SEQUENCE:3
DTSTAMP:20260423T145615Z
URL:https://www.santafetxchamber.com/events/details/labor-day-celebration-grape-stomp-6620
END:VEVENT

END:VCALENDAR
