BEGIN:VCALENDAR
VERSION:2.0
PRODID:-//ChamberMaster//Event Calendar 2.0//EN
METHOD:PUBLISH
X-PUBLISHED-TTL:P3D
REFRESH-INTERVAL:P3D
CALSCALE:GREGORIAN
BEGIN:VEVENT
DTSTART:20170511T170000Z
DTEND:20170512T000000Z
X-MICROSOFT-CDO-ALLDAYEVENT:FALSE
SUMMARY:Knights of Columbus Council #10393 Annual Golf Tournament
DESCRIPTION:Registration at 11:00 a.m.\n\nLunch at Noon\n\nShotgun start at 1:00 p.m.\n\n\n\nAt Bayou Golf Course in Texas City
X-ALT-DESC;FMTTYPE=text/html:Registration at 11:00 a.m.<br />\nLunch at Noon<br />\nShotgun start at 1:00 p.m.<br />\n<br />\nAt Bayou Golf Course in Texas City
LOCATION:
UID:e.451.6200
SEQUENCE:3
DTSTAMP:20260424T113703Z
URL:https://www.santafetxchamber.com/events/details/knights-of-columbus-council-10393-annual-golf-tournament-6200
END:VEVENT

END:VCALENDAR
