BEGIN:VCALENDAR
VERSION:2.0
PRODID:-//ChamberMaster//Event Calendar 2.0//EN
METHOD:PUBLISH
X-PUBLISHED-TTL:P3D
REFRESH-INTERVAL:P3D
CALSCALE:GREGORIAN
BEGIN:VEVENT
DTSTART:20161215T221500Z
DTEND:20161215T233000Z
X-MICROSOFT-CDO-ALLDAYEVENT:FALSE
SUMMARY:Keep Calm & Color On ~ Holiday Coloring Extravaganza!
DESCRIPTION:
X-ALT-DESC;FMTTYPE=text/html:
LOCATION:Mae S. Bruce Library 13302 6th St. Santa Fe\, Texas
UID:e.451.6143
SEQUENCE:3
DTSTAMP:20260424T185427Z
URL:https://www.santafetxchamber.com/events/details/keep-calm-color-on-holiday-coloring-extravaganza-6143
END:VEVENT

END:VCALENDAR
