BEGIN:VCALENDAR
VERSION:2.0
PRODID:-//ChamberMaster//Event Calendar 2.0//EN
METHOD:PUBLISH
X-PUBLISHED-TTL:P3D
REFRESH-INTERVAL:P3D
CALSCALE:GREGORIAN
BEGIN:VEVENT
DTSTART;VALUE=DATE:20170607
DTEND;VALUE=DATE:20170608
TRANSP:TRANSPARENT
X-MICROSOFT-CDO-ALLDAYEVENT:TRUE
SUMMARY:Kat's BBQ 1-Year Anniversary Celebration
DESCRIPTION:
X-ALT-DESC;FMTTYPE=text/html:
LOCATION:
UID:e.451.6207
SEQUENCE:3
DTSTAMP:20260424T100005Z
URL:https://www.santafetxchamber.com/events/details/kat-s-bbq-1-year-anniversary-celebration-6207
END:VEVENT

END:VCALENDAR
