BEGIN:VCALENDAR
VERSION:2.0
PRODID:-//ChamberMaster//Event Calendar 2.0//EN
METHOD:PUBLISH
X-PUBLISHED-TTL:P3D
REFRESH-INTERVAL:P3D
CALSCALE:GREGORIAN
BEGIN:VEVENT
DTSTART:20190308T140000Z
DTEND:20190308T220000Z
X-MICROSOFT-CDO-ALLDAYEVENT:FALSE
SUMMARY:Jimbo's Nursery Spring Open House
DESCRIPTION:Friday and Saturday\, March 8th & 9th - Spring Open House\n\n\n\nSpring is in the air! Join us for new plants\, sales\, specials and more. Pick up all of the supplies you need to create the perfect landscape or garden.\n\n\n\n8 a.m. - 4 p.m.
X-ALT-DESC;FMTTYPE=text/html:<span style="background-image:initial\;background-position:initial\;background-size:initial\;background-repeat:initial\;background-attachment:initial\;background-origin:initial\;background-clip:initial\;"><span style="color:#d95000\;"><span style="font-family:helvetica\,sans-serif\;"><span style="font-size:10.5pt\;">Friday and Saturday\, March 8th &amp\; 9th - Spring Open House</span></span></span></span><br />\n<br />\n<span style="background-image:initial\;background-position:initial\;background-size:initial\;background-repeat:initial\;background-attachment:initial\;background-origin:initial\;background-clip:initial\;"><span style="color:#d95000\;"><span style="font-family:helvetica\,sans-serif\;"><span style="font-size:10.5pt\;"><span style="white-space:pre-wrap\;">Spring is in the air! Join us for new plants\, sales\, specials and more. Pick up all of the supplies you need to create the perfect landscape or garden.<br />\n<br />\n8 a.m. - 4 p.m.</span></span></span></span></span>
LOCATION:
UID:e.451.6690
SEQUENCE:3
DTSTAMP:20260423T033146Z
URL:https://www.santafetxchamber.com/events/details/jimbo-s-nursery-spring-open-house-6690
END:VEVENT

END:VCALENDAR
