BEGIN:VCALENDAR
VERSION:2.0
PRODID:-//ChamberMaster//Event Calendar 2.0//EN
METHOD:PUBLISH
X-PUBLISHED-TTL:P3D
REFRESH-INTERVAL:P3D
CALSCALE:GREGORIAN
BEGIN:VEVENT
DTSTART:20160924T230000Z
DTEND:20160925T040000Z
X-MICROSOFT-CDO-ALLDAYEVENT:FALSE
SUMMARY:Independence Village 16th Annual Gala
DESCRIPTION:Celebrating the All-Stars 16th Annual Gala\n\n6:00pm ~ Tailgating\n\n7:00pm ~ Gala Begins\n\n\n\nEmcee ~ Mr. Bob Senter\n\nFeaturing: Texans Cheerleaders & Sports Celebritites\n\nMusic by Pee Wee Bowen Band
X-ALT-DESC;FMTTYPE=text/html:Celebrating the All-Stars 16th Annual Gala<br />\n6:00pm&nbsp\;~ Tailgating<br />\n7:00pm ~ Gala Begins<br />\n<br />\nEmcee ~ Mr. Bob Senter<br />\nFeaturing: Texans Cheerleaders &amp\; Sports Celebritites<br />\nMusic by Pee Wee Bowen Band
LOCATION:Doyle Convention Center
UID:e.451.5986
SEQUENCE:3
DTSTAMP:20260424T233050Z
URL:https://www.santafetxchamber.com/events/details/independence-village-16th-annual-gala-5986
END:VEVENT

END:VCALENDAR
