BEGIN:VCALENDAR
VERSION:2.0
PRODID:-//ChamberMaster//Event Calendar 2.0//EN
METHOD:PUBLISH
X-PUBLISHED-TTL:P3D
REFRESH-INTERVAL:P3D
CALSCALE:GREGORIAN
BEGIN:VEVENT
DTSTART:20190801T200000Z
DTEND:20190802T000000Z
X-MICROSOFT-CDO-ALLDAYEVENT:FALSE
SUMMARY:Hurricane Harvey Relief Application Fair
DESCRIPTION:HELP spread the word . The City of Santa Fe is hosting an application fair with the General Land Office for Hurricane Harvey Relief.\n\n\n\nThe General Land Office will set up workstations and help people apply for grant funds in the council chambers.\n\n\n\nClick HERE for what to bring with you and HERE for the application check list.\n\n\n\nThe grant money that is awarded does not have to be paid back as long as they stay in the home over 3 years. People who live in mobile or manufactured homes can also apply as long as they own the land the home sits on. Also\, if the mobile home is so damaged that it is unrepairable  they may qualify for a new stick built home!\n\n \n\nYou do not have to live in the city limits to apply. It is for all of Galveston County.
X-ALT-DESC;FMTTYPE=text/html:<span style="font-size:14px\;"><span style="font-family:times new roman\;"><span style="color:#1F497D\;">HELP spread the word&hellip\;. The City of Santa Fe is&nbsp\;</span><span style="color:#1F497D\;">hosting an application fair with the General Land Office for Hurricane Harvey Relief.</span><br />\n<br />\n<span style="color:#1F497D\;">The General Land Office will set up workstations and help people apply for grant funds in the council chambers.<br />\n<br />\nClick </span><a href="https://chambermaster.blob.core.windows.net/userfiles/UserFiles/chambers/451/File/0725_CItyHall_2.pdf"><span style="color:#FF0000\;">HERE</span></a><span style="color:#1F497D\;">&nbsp\;for what to bring with you and </span><a href="https://chambermaster.blob.core.windows.net/userfiles/UserFiles/chambers/451/File/0725_CItyHall.pdf"><span style="color:#FF0000\;">HERE</span></a><span style="color:#1F497D\;"> for the application check list.</span><br />\n<br />\n<span style="color:#1F497D\;">The grant money that is awarded does not have to be paid back as long as they stay in the home over 3 years.&nbsp\;</span><span style="color:#1F497D\;">People who live in mobile or manufactured homes can also apply as long as they own the land the home sits on.&nbsp\;</span><span style="color:#1F497D\;">Also\, if the mobile home is so damaged that it is unrepairable&hellip\; they may qualify for a new stick built home!</span><br />\n&nbsp\;<br />\n<span style="color:#1F497D\;">You do not have to live in the city limits to apply. It is for all of Galveston County.</span></span></span>
LOCATION:
UID:e.451.7296
SEQUENCE:3
DTSTAMP:20260422T222630Z
URL:https://www.santafetxchamber.com/events/details/hurricane-harvey-relief-application-fair-7296
END:VEVENT

END:VCALENDAR
