BEGIN:VCALENDAR
VERSION:2.0
PRODID:-//ChamberMaster//Event Calendar 2.0//EN
METHOD:PUBLISH
X-PUBLISHED-TTL:P3D
REFRESH-INTERVAL:P3D
CALSCALE:GREGORIAN
BEGIN:VEVENT
DTSTART:20170408T140000Z
DTEND:20170408T190000Z
X-MICROSOFT-CDO-ALLDAYEVENT:FALSE
SUMMARY:Household Hazardous Collection
DESCRIPTION:Free Collection Event at Gulf Greyhound Park
X-ALT-DESC;FMTTYPE=text/html:Free Collection Event at Gulf Greyhound Park
LOCATION:
UID:e.451.6185
SEQUENCE:3
DTSTAMP:20260424T123224Z
URL:https://www.santafetxchamber.com/events/details/household-hazardous-collection-6185
END:VEVENT

END:VCALENDAR
