BEGIN:VCALENDAR
VERSION:2.0
PRODID:-//ChamberMaster//Event Calendar 2.0//EN
METHOD:PUBLISH
X-PUBLISHED-TTL:P3D
REFRESH-INTERVAL:P3D
CALSCALE:GREGORIAN
BEGIN:VEVENT
DTSTART:20201209T233000Z
DTEND:20201210T020000Z
X-MICROSOFT-CDO-ALLDAYEVENT:FALSE
SUMMARY:Holiday After Hours Membership Appreciation
DESCRIPTION:Join us as we celebrate and express our appreciation for our Chamber Members.  Complimentary drinks\, dinner\, desert\, door prizes and great friends and fellowship.
X-ALT-DESC;FMTTYPE=text/html:Join us as we celebrate and express our appreciation for our Chamber Members. &nbsp\;Complimentary drinks\, dinner\, desert\, door prizes and great friends and fellowship.
LOCATION:The Hidden Palms 3706 Ave. E 1/2 Santa Fe\, Texas
UID:e.451.7817
SEQUENCE:3
DTSTAMP:20260421T194850Z
URL:https://www.santafetxchamber.com/events/details/holiday-after-hours-membership-appreciation-7817
END:VEVENT

END:VCALENDAR
