BEGIN:VCALENDAR
VERSION:2.0
PRODID:-//ChamberMaster//Event Calendar 2.0//EN
METHOD:PUBLISH
X-PUBLISHED-TTL:P3D
REFRESH-INTERVAL:P3D
CALSCALE:GREGORIAN
BEGIN:VEVENT
DTSTART:20191109T150000Z
DTEND:20191110T030000Z
X-MICROSOFT-CDO-ALLDAYEVENT:FALSE
SUMMARY:Heritage Festival\, Rodeo\, Old Smokey Cook-Off & Veteran's Day Celebration ~ 2019
DESCRIPTION:Runge Park\n\n4605 Peck St.\n\nSanta Fe\, TX 77517\n\n\n\nPrintable PDF Forms:\n\nBarrel Race (only available day of\, on-site)\n\nOld Smokey Cook-Off\n\nPageant Form\n\nSponsorship Packet\n\nVendor Form\n\n\n\nVendors registered for the day:\n\n  A Touch of Soil and Soul\n\n  Arcadia First Baptist Church\n\n  Big John's Gifts Galore\n\n  Big Texan Party Rental\n\n  BBVA Compass Bank\n\n  Cat's Creations\n\n  CHAAT - Cheerful Hearts Animal Assisted Therapy\n\n  Color Street\n\n  Crazy Cajun Beauxteek (handmade earrings)\n\n  Cricket Wireless\n\n  Criss Cross Dreams\n\n  Czech Heritage Society of Texas \n\n  Darlene's Crafts\n\n  Designer Crafts\n\n  DJ's Jazzy Jewels (Paparazzi)\n\n  Friends of Mae S. Bruce Library\n\n  Granny's Creations\n\n  Hearts United for Kindness\n\n  Hospitality Health ER\n\n  Janie's Unique Boutique\n\n  K's Koncessions\n\n  Kellie K Esthetics\n\n  Kyla's Krafts\n\n  L&S Crafting Queens\n\n  Lion's Club of Santa Fe (BBQ Brisket Fundraiser & Raffle)\n\n  Little Bit of This\, Little Bit of That\n\n  Little Gumdrop\n\n  Little Old Knife Maker\n\n  LuLa Roe\n\n  Mom & Pops Mini Mall\n\n  Mom Daughter Squad\n\n  Mugshots Coffee Bar\n\n  My Daily Choice / Hempworx\n\n  Santa Fe Christian Church\n\n  Sassy Southern K Creations\n\n  Scentsy\n\n  Snohut Snoballs\n\n  Staple Piece\n\n  The America We Love Foundation\n\n  The Market in Santa Fe\n\n  The Stuffed Buddies Factory\n\n  Thirty-One\n\n  Tom the Blacksmith\n\n  Weaver Homemade\n\n  XS Baggage
X-ALT-DESC;FMTTYPE=text/html:<p>Runge Park<br />\n4605 Peck St.<br />\nSanta Fe\, TX 77517<br />\n<br />\nPrintable PDF Forms:<br />\nBarrel Race (only available day of\, on-site)<br />\n<a href="https://chambermaster.blob.core.windows.net/userfiles/UserFiles/chambers/451/File/Heritage_Festival_19/Heritage_Festival_2019/Form_CookOff_HF2019.pdf">Old Smokey Cook-Off</a><br />\n<a href="https://chambermaster.blob.core.windows.net/userfiles/UserFiles/chambers/451/File/Heritage_Festival_19/Heritage_Festival_2019/Form_Pageant_HF2019.pdf">Pageant Form</a><br />\n<a href="https://chambermaster.blob.core.windows.net/userfiles/UserFiles/chambers/451/File/Heritage_Festival_19/Heritage_Festival_2019/Form_SponsorshipPacket_HF2019.pdf">Sponsorship Packet</a><br />\n<a href="https://chambermaster.blob.core.windows.net/userfiles/UserFiles/chambers/451/File/Heritage_Festival_19/Heritage_Festival_2019/Form_VendorForm_HF2019.pdf">Vendor Form</a><br />\n<br />\nVendors registered for the day:<br />\n&nbsp\; A Touch of Soil and Soul<br />\n&nbsp\; Arcadia First Baptist Church<br />\n&nbsp\; Big John&#39\;s Gifts Galore<br />\n&nbsp\; Big Texan Party Rental<br />\n&nbsp\; BBVA Compass Bank<br />\n&nbsp\; Cat&#39\;s Creations<br />\n&nbsp\; CHAAT - Cheerful Hearts Animal Assisted Therapy<br />\n&nbsp\; Color Street<br />\n&nbsp\;&nbsp\;Crazy Cajun Beauxteek (handmade earrings)<br />\n&nbsp\;&nbsp\;Cricket Wireless<br />\n&nbsp\;&nbsp\;Criss Cross Dreams<br />\n&nbsp\; Czech Heritage Society of Texas&nbsp\;<br />\n&nbsp\; Darlene&#39\;s Crafts<br />\n&nbsp\;&nbsp\;Designer Crafts<br />\n&nbsp\; DJ&#39\;s Jazzy Jewels (Paparazzi)<br />\n&nbsp\; Friends of Mae S. Bruce Library<br />\n&nbsp\; Granny&#39\;s Creations<br />\n&nbsp\;&nbsp\;Hearts United for Kindness<br />\n&nbsp\; Hospitality Health ER<br />\n&nbsp\; Janie&#39\;s Unique Boutique<br />\n&nbsp\;&nbsp\;K&#39\;s Koncessions<br />\n&nbsp\; Kellie K Esthetics<br />\n&nbsp\; Kyla&#39\;s Krafts<br />\n&nbsp\; L&amp\;S Crafting Queens<br />\n&nbsp\; Lion&#39\;s Club of Santa Fe (BBQ Brisket Fundraiser &amp\; Raffle)<br />\n&nbsp\;&nbsp\;Little Bit of This\, Little Bit of That<br />\n&nbsp\; Little Gumdrop<br />\n&nbsp\;&nbsp\;Little Old Knife Maker<br />\n&nbsp\;&nbsp\;LuLa Roe<br />\n&nbsp\; Mom &amp\; Pops Mini Mall<br />\n&nbsp\;&nbsp\;Mom Daughter Squad<br />\n&nbsp\; Mugshots Coffee Bar<br />\n&nbsp\; My Daily Choice / Hempworx<br />\n&nbsp\; Santa Fe Christian Church<br />\n&nbsp\; Sassy Southern K Creations<br />\n&nbsp\; Scentsy<br />\n&nbsp\;&nbsp\;Snohut Snoballs<br />\n&nbsp\; Staple Piece<br />\n&nbsp\; The America We Love Foundation<br />\n&nbsp\; The Market in Santa Fe<br />\n&nbsp\; The Stuffed Buddies Factory<br />\n&nbsp\;&nbsp\;Thirty-One<br />\n&nbsp\; Tom the Blacksmith<br />\n&nbsp\; Weaver Homemade<br />\n&nbsp\; XS Baggage</p>\n
LOCATION:Runge Park 4605 Peck St. Santa Fe\, TX 77517
UID:e.451.6671
SEQUENCE:3
DTSTAMP:20260422T160101Z
URL:https://www.santafetxchamber.com/events/details/heritage-festival-rodeo-old-smokey-cook-off-veteran-s-day-celebration-2019-6671
END:VEVENT

END:VCALENDAR
