BEGIN:VCALENDAR
VERSION:2.0
PRODID:-//ChamberMaster//Event Calendar 2.0//EN
METHOD:PUBLISH
X-PUBLISHED-TTL:P3D
REFRESH-INTERVAL:P3D
CALSCALE:GREGORIAN
BEGIN:VEVENT
DTSTART:20201114T160000Z
DTEND:20201115T010000Z
X-MICROSOFT-CDO-ALLDAYEVENT:FALSE
SUMMARY:Heritage Festival ~ 2020
DESCRIPTION:This year's event will include a Kid Zone\; a Friday evening Women's Ranch Rodeo\, a display on the history of Santa Fe\; a tractor display\; an Old Smokey cook-off\; Student Performances\, Craft and Food Vendors\; Corn Hole\; hundreds of smiling faces\, loads of hometown hospitality and the making of happy memories for years to come.\n\n\n\nCheck out our Vendors:\n\nA B Sign Shop\n\nArcadia First Baptist Church\n\nAvon - Cyndi Gaido\n\nBig John's Gifts Galore\n\nBraiden's Heroes\n\nColor Street - Jody Whinningham\n\nCreativity is Our World\n\nCriss Cross Dreams\n\nGlam Up Boutique\n\nGrandma's Clothespin Stuff\n\nHart 2 Heart Stitching & Designs\n\nHoney Bee Boutique\n\nHospitality ER of Galveston\n\nInfinity Reeds & Musical Gifts\n\nJessie's Junk\n\nLeopard Arrow Boutique\n\nLittle Bit of This\, Little Bit of That\n\nMary Kay - Linda Huoni\n\nMary's Magic Maids\n\nMom & Pops Mini Mall\n\nMudbelly Outdoor Supplies\n\nMugshots Coffee Bar\n\nNew From Old\n\nPainting the Patio\n\nSanta Fe Christian Church\n\nSanta Fe Family Services\n\nSanta Fe Ten Memorial Foundation\n\nSassy Southern K Creations\n\nScentsy - Amber Pourchot\n\nSouthern Shirt Shack\n\nSweet T's Creations\n\nTastefully Simple\n\nThe Branded Heifer\n\nThe Market in Santa Fe\n\nThe Stuffed Buddies Factory\n\nWimberly Valley Forge aka Tom the Blacksmith\n\nXS Baggage\n\nZ's Blue Light Sweets n' Treats\n\n\n\n\n\n\n\nPDF Forms:\n\nSPONSORSHIP PACKET\n\nVENDOR APPLICATION\n\nOLD SMOKEY COOK-OFF ENTRY
X-ALT-DESC;FMTTYPE=text/html:<p>This year&rsquo\;s event will include a Kid Zone\; a Friday evening Women&#39\;s Ranch Rodeo\, a display on the history of Santa Fe\; a tractor display\; an Old Smokey cook-off\; Student Performances\, Craft and Food Vendors\; Corn Hole\; hundreds of smiling faces\, loads of hometown hospitality and the making of happy memories for years to come.<br />\n<br />\n<span style="color:#A52A2A\;">Check out our Vendors</span>:<br />\n<a href="http://www.absignshop.com/" target="_blank">A B Sign Shop</a><br />\nArcadia First Baptist Church<br />\nAvon - Cyndi Gaido<br />\n<a href="https://www.facebook.com/BigJohnsGiftsGalore" target="_blank">Big John&#39\;s Gifts Galore</a><br />\nBraiden&#39\;s Heroes<br />\nColor Street - Jody Whinningham<br />\nCreativity is Our World<br />\n<a href="https://www.facebook.com/crisscrossdreams" target="_blank">Criss Cross Dreams</a><br />\nGlam Up Boutique<br />\nGrandma&#39\;s Clothespin Stuff<br />\nHart 2 Heart Stitching &amp\; Designs<br />\nHoney Bee Boutique<br />\nHospitality ER of Galveston<br />\nInfinity Reeds &amp\; Musical Gifts<br />\n<a href="https://www.facebook.com/groups/412671032958864" target="_blank">Jessie&#39\;s Junk</a><br />\nLeopard Arrow Boutique<br />\n<a href="https://www.facebook.com/texaslittlebitofthislittlebitofthat" target="_blank">Little Bit of This\, Little Bit of That</a><br />\n<a href="https://www.marykay.com/LindaHuoni?fbclid=IwAR1C4j5daAP14rg5o3uLESmw-fqayjuVdJXHxMYPazZjXir9PaOKm3aCkXo" target="_blank">Mary Kay - Linda Huoni</a><br />\nMary&#39\;s Magic Maids<br />\nMom &amp\; Pops Mini Mall<br />\n<a href="https://www.facebook.com/mudbellyoutdoors" target="_blank">Mudbelly Outdoor Supplies</a><br />\n<a href="https://www.facebook.com/Mugshotscoffeebar" target="_blank">Mugshots Coffee Bar</a><br />\nNew From Old<br />\nPainting the Patio<br />\nSanta Fe Christian Church<br />\nSanta Fe Family Services<br />\nSanta Fe Ten Memorial Foundation<br />\n<a href="https://www.facebook.com/SassySouthernKCreations" target="_blank">Sassy Southern K Creations</a><br />\n<a href="https://texasamber.scentsy.us/" target="_blank">Scentsy - Amber Pourchot</a><br />\nSouthern Shirt Shack<br />\n<a href="https://www.facebook.com/sweetts1972" target="_blank">Sweet T&#39\;s Creations</a><br />\nTastefully Simple<br />\nThe Branded Heifer<br />\nThe Market in Santa Fe<br />\n<a href="https://www.facebook.com/thestuffedbuddiesfactory" target="_blank">The Stuffed Buddies Factory</a><br />\nWimberly Valley Forge aka Tom the Blacksmith<br />\n<a href="https://www.facebook.com/Xsbaggage1" target="_blank">XS Baggage</a><br />\n<a href="https://www.facebook.com/ZsBlueLightSweetsnTreats" target="_blank">Z&#39\;s Blue Light Sweets n&#39\; Treats</a><br />\n<br />\n<br />\n<br />\nPDF Forms:<br />\n<a href="https://chambermaster.blob.core.windows.net/userfiles/UserFiles/chambers/451/File/Heritage_Festival_2020/Form_SponsorshipPacket_HF2020.pdf"><span style="color:#FF0000\;">SPONSORSHIP PACKET</span></a><br />\n<a href="https://chambermaster.blob.core.windows.net/userfiles/UserFiles/chambers/451/File/Heritage_Festival_2020/Form_VendorForm_HF2020.pdf"><span style="color:#FF0000\;">VENDOR APPLICATION</span></a><br />\n<a href="https://chambermaster.blob.core.windows.net/userfiles/UserFiles/chambers/451/File/Heritage_Festival_2020/Form_OldSmokey_HF2020.pdf"><span style="color:#FF0000\;">OLD SMOKEY COOK-OFF ENTRY</span></a></p>\n
LOCATION:Runge Park 4605 Peck St. Santa Fe\, TX 77517
UID:e.451.7806
SEQUENCE:3
DTSTAMP:20260421T212833Z
URL:https://www.santafetxchamber.com/events/details/heritage-festival-2020-7806
END:VEVENT

END:VCALENDAR
