BEGIN:VCALENDAR
VERSION:2.0
PRODID:-//ChamberMaster//Event Calendar 2.0//EN
METHOD:PUBLISH
X-PUBLISHED-TTL:P3D
REFRESH-INTERVAL:P3D
CALSCALE:GREGORIAN
BEGIN:VEVENT
DTSTART:20170422T170000Z
DTEND:20170422T230000Z
X-MICROSOFT-CDO-ALLDAYEVENT:FALSE
SUMMARY:Grand Opening & Ribbon Cutting
DESCRIPTION:Metro PCS Open House and Ribbon Cutting\n\nOpen House from 12 to 6:00 p.m.\n\nRibbon Cutting at 12:30 p.m.
X-ALT-DESC;FMTTYPE=text/html:Metro PCS Open House and Ribbon Cutting<br />\nOpen House from 12 to 6:00 p.m.<br />\nRibbon Cutting at 12:30 p.m.
LOCATION:
UID:e.451.6197
SEQUENCE:3
DTSTAMP:20260424T123235Z
URL:https://www.santafetxchamber.com/events/details/grand-opening-ribbon-cutting-6197
END:VEVENT

END:VCALENDAR
