BEGIN:VCALENDAR
VERSION:2.0
PRODID:-//ChamberMaster//Event Calendar 2.0//EN
METHOD:PUBLISH
X-PUBLISHED-TTL:P3D
REFRESH-INTERVAL:P3D
CALSCALE:GREGORIAN
BEGIN:VEVENT
DTSTART:20161214T233000Z
DTEND:20161215T023000Z
X-MICROSOFT-CDO-ALLDAYEVENT:FALSE
SUMMARY:After Hours Membership Appreciation
DESCRIPTION:Join us for our Membership Appreciation After Hours... The Board provides the food and frosty beverage and we ask that you bring a toy or non-perishable item for donation to H.I.S. Ministries.
X-ALT-DESC;FMTTYPE=text/html:Join us for our Membership Appreciation After Hours... The Board provides the food and frosty beverage and we ask that you bring a toy or non-perishable item for donation to H.I.S. Ministries.<br />\n<br />\n&nbsp\;
LOCATION:The Hidden Palms 3706 Ave. E 1/2 Santa Fe\, Texas
UID:e.451.5176
SEQUENCE:3
DTSTAMP:20260424T202527Z
URL:https://www.santafetxchamber.com/events/details/general-membership-meeting-luncheon-12-14-2016-5176
END:VEVENT

END:VCALENDAR
