BEGIN:VCALENDAR
VERSION:2.0
PRODID:-//ChamberMaster//Event Calendar 2.0//EN
METHOD:PUBLISH
X-PUBLISHED-TTL:P3D
REFRESH-INTERVAL:P3D
CALSCALE:GREGORIAN
BEGIN:VEVENT
DTSTART:20151118T173000Z
DTEND:20151118T190000Z
X-MICROSOFT-CDO-ALLDAYEVENT:FALSE
SUMMARY:General Membership Meeting/Luncheon
DESCRIPTION:Please join us for a family style General Membership Meeting/Luncheon.\n\nTastefully Yours Catering will be providing the wonderful food.\n\nMayor Tambrella will be the guest speaker.\n\n\n\nPlease RSVP by 1:30 pm Monday November 16
X-ALT-DESC;FMTTYPE=text/html:Please join us for a&nbsp\;family&nbsp\;style General Membership Meeting/Luncheon.<br />\nTastefully Yours Catering will be providing the wonderful food.<br />\nMayor Tambrella will be the guest speaker.<br />\n<br />\nPlease RSVP by 1:30 pm Monday November 16
LOCATION:Aldersgate United Methodist Church 13217 FM 1764 Rd\, Santa Fe\, TX 77510
UID:e.451.3537
SEQUENCE:3
DTSTAMP:20260425T182436Z
URL:https://www.santafetxchamber.com/events/details/general-membership-meeting-luncheon-11-18-2015-3537
END:VEVENT

END:VCALENDAR
