BEGIN:VCALENDAR
VERSION:2.0
PRODID:-//ChamberMaster//Event Calendar 2.0//EN
METHOD:PUBLISH
X-PUBLISHED-TTL:P3D
REFRESH-INTERVAL:P3D
CALSCALE:GREGORIAN
BEGIN:VEVENT
DTSTART:20161109T173000Z
DTEND:20161109T190000Z
X-MICROSOFT-CDO-ALLDAYEVENT:FALSE
SUMMARY:General Membership Meeting & Luncheon
DESCRIPTION:Monthly Membership Meeting & Luncheon\n		\n	\n\n\n\n	\n		\n			Join us Wednesday ~ November 9th\n\n			\n\n			Meet & Greet ~ 11:30 a.m.\n\n			Meeting Start ~ Noon\n\n			Pentecostals of Santa Fe\n\n			12811 FM 1764\n\n			Santa Fe\, Texas\n\n			 \n\n			Speaker ~ Senator Larry Taylor & State Representative Dr. Greg Bonnen \n\n			Topic ~ Discussion for Upcoming Legislative Session \n\n			\n\n			Luncheon Fee ~ $15 \n\n			Caterer ~ Tastefully Yours Events & Catering\n\n			\n\n			RSVP by Monday\, November 7th at Noon to sfchamber@comcast.net or\n\n			register and pay on-line at http://www.santafetexaschamber.com/dues.htm.
X-ALT-DESC;FMTTYPE=text/html:<table align="center" border="0" cellpadding="0" cellspacing="0" style="width:100.0%\;" width="100%">\n	<tbody>\n		<tr>\n			<td style="padding:6.0pt 15.0pt 6.75pt 15.0pt\;vertical-align:top\;"><span style="font-size:14px\;"><strong><span style="color:#080A0B\;"><span style="font-family:comic sans ms\;">Monthly Membership Meeting &amp\; Luncheon</span></span></strong></span></td>\n		</tr>\n	</tbody>\n</table>\n\n<table align="center" border="0" cellpadding="0" cellspacing="0" style="width:100.0%\;padding:px\;" width="100%">\n	<tbody>\n		<tr>\n			<td style="padding:6.0pt 15.0pt 6.75pt 15.0pt\;vertical-align:top\;"><span style="font-size:14px\;"><strong><span style="color:#000001\;"><span style="font-family:comic sans ms\;">Join us Wednesday ~ November 9th</span></span></strong></span><br />\n			<br />\n			<span style="font-size:12px\;"><span style="color:#000001\;"><span style="font-family:comic sans ms\;">Meet &amp\; Greet ~ 11:30 a.m.</span></span><br />\n			<span style="color:#000001\;"><span style="font-family:comic sans ms\;">Meeting Start ~ Noon</span></span><br />\n			<span style="color:#000001\;"><span style="font-family:comic sans ms\;">Pentecostals of Santa Fe</span></span><br />\n			<span style="color:#000001\;"><span style="font-family:comic sans ms\;">12811 FM 1764</span></span><br />\n			<span style="color:#000001\;"><span style="font-family:comic sans ms\;">Santa Fe\, Texas</span></span></span><br />\n			&nbsp\;<br />\n			<span style="font-size:12px\;"><strong><span style="color:#000001\;"><span style="font-family:comic sans ms\;">Speaker ~ Senator Larry Taylor &amp\; State Representative Dr. Greg Bonnen&nbsp\;</span></span></strong><br />\n			<strong><span style="color:#000001\;"><span style="font-family:comic sans ms\;">Topic ~ Discussion for Upcoming Legislative Session&nbsp\;</span></span></strong></span><br />\n			<br />\n			<span style="color:#000001\;"><span style="font-family:comic sans ms\;">Luncheon Fee ~ $15&nbsp\;</span></span><br />\n			<span style="color:#000001\;"><span style="font-family:comic sans ms\;">Caterer ~ Tastefully Yours Events &amp\; Catering<br />\n			<br />\n			RSVP by Monday\, November 7th at Noon to <a href="mailto:sfchamber@comcast.net" shape="rect" target="_blank"><span style="text-decoration:none\;text-underline:none\;">sfchamber@comcast.net</span></a> or<br />\n			register and pay on-line at <a alt="http://www.santafetexaschamber.com/dues.htm" href="http://r20.rs6.net/tn.jsp?f=001TVHVuNklfqJKMPXTK9ImotUGDQyWjTxPBxftpdhFstyVzG7G1uk8F3dKrx5-A51expjWuHongNWHXJYNRg-TaQzpoVBGZ7q76btNfj4N-_pLkjKRzSgfpGCBA2gjMrBO6wxIg7Ojap06Akw-Jx_6v5uiObL31EPp4CU8HtWglsLcN7WakG4MjshCUF4Q2zOtohbRRgB1xYw=&amp\;c=EEncgO4KstFbwnJSMbi41Ri0QdrhqPvGRvfDkRollXQcWi0tgHcSXA==&amp\;ch=a-v0ytN2DQ6arc4NJxrfSz5gV8Nrm6ms6RmO6MOg6LbDdtHUV_RexA==" linktype="1" shape="rect" target="_blank" track="on">http://www.santafetexaschamber.com/dues.htm</a>.&nbsp\;</span></span></td>\n		</tr>\n	</tbody>\n</table>\n<br />\n&nbsp\;
LOCATION:Pentecostals of Santa Fe (back building) 12811 FM 1764 Santa Fe\, Texas
UID:e.451.5175
SEQUENCE:3
DTSTAMP:20260424T215530Z
URL:https://www.santafetxchamber.com/events/details/general-membership-meeting-luncheon-11-09-2016-5175
END:VEVENT

END:VCALENDAR
