BEGIN:VCALENDAR
VERSION:2.0
PRODID:-//ChamberMaster//Event Calendar 2.0//EN
METHOD:PUBLISH
X-PUBLISHED-TTL:P3D
REFRESH-INTERVAL:P3D
CALSCALE:GREGORIAN
BEGIN:VEVENT
DTSTART:20151014T163000Z
DTEND:20151014T180000Z
X-MICROSOFT-CDO-ALLDAYEVENT:FALSE
SUMMARY:General Membership Meeting/Luncheon
DESCRIPTION:Please join us at the General Membership Meeting an Luncheon.\n\nDr. Greg Bonnen will be speaking on Legislative Updates.
X-ALT-DESC;FMTTYPE=text/html:Please join us at the General Membership Meeting an Luncheon.<br />\nDr. Greg Bonnen will be speaking on&nbsp\;Legislative Updates.<br />\n&nbsp\;
LOCATION:Aldersgate United Methodist Church 13217 FM 1764 Rd\, Santa Fe\, TX 77510
UID:e.451.3536
SEQUENCE:3
DTSTAMP:20260425T200310Z
URL:https://www.santafetxchamber.com/events/details/general-membership-meeting-luncheon-10-14-2015-3536
END:VEVENT

END:VCALENDAR
