BEGIN:VCALENDAR
VERSION:2.0
PRODID:-//ChamberMaster//Event Calendar 2.0//EN
METHOD:PUBLISH
X-PUBLISHED-TTL:P3D
REFRESH-INTERVAL:P3D
CALSCALE:GREGORIAN
BEGIN:VEVENT
DTSTART:20150812T163000Z
DTEND:20150812T180000Z
X-MICROSOFT-CDO-ALLDAYEVENT:FALSE
SUMMARY:General Membership Meeting/Luncheon
DESCRIPTION:Please join us Wednesday ~ August 12th \n\nfor our General Membership Meeting & Luncheon\n\nat Aldersgate United Methodist Church\n\n13217 FM 1764 in Santa Fe\n\n \n\n11:30 a.m.   Luncheon\n\nNoon   General Membership Meeting\n\n \n\nSpeaker   Santa Fe Chamber of Commerce\, Inc.\n\nLunch provided by Gio's Flying Pizza\n\n \n\n$15 Cash or Check at the Door or\, you may pre-pay via credit card by using the drop down menu and clicking on Membership Meeting & Luncheon at http://www.santafetexaschamber.com/dues.htm.
X-ALT-DESC;FMTTYPE=text/html:<p style="margin: 0in 0in 0pt\;"><font face="Calibri"><font color="#000000"><font size="3">Please join us Wednesday ~ August 12</font><sup><font size="2">th</font></sup><font size="3"> </font></font></font></p>\n\n<p style="margin: 0in 0in 0pt\;"><font color="#000000" face="Calibri" size="3">for our General Membership Meeting &amp\; Luncheon</font></p>\n\n<p style="margin: 0in 0in 0pt\;"><font color="#000000" face="Calibri" size="3">at Aldersgate United Methodist Church</font></p>\n\n<p style="margin: 0in 0in 0pt\;"><font color="#000000" face="Calibri" size="3">13217 FM 1764 in Santa Fe</font></p>\n\n<p style="margin: 0in 0in 0pt\;"><font color="#000000" face="Calibri" size="3">&nbsp\;</font></p>\n\n<p style="margin: 0in 0in 0pt\;"><font color="#000000" face="Calibri" size="3">11:30 a.m. &ndash\; Luncheon</font></p>\n\n<p style="margin: 0in 0in 0pt\;"><font color="#000000" face="Calibri" size="3">Noon &ndash\; General Membership Meeting</font></p>\n\n<p style="margin: 0in 0in 0pt\;"><font color="#000000" face="Calibri" size="3">&nbsp\;</font></p>\n\n<p style="margin: 0in 0in 0pt\;"><font color="#000000" face="Calibri" size="3">Speaker &ndash\; Santa Fe Chamber of Commerce\, Inc.</font></p>\n\n<p style="margin: 0in 0in 0pt\;"><font color="#000000" face="Calibri" size="3">Lunch provided by Gio&rsquo\;s Flying Pizza</font></p>\n\n<p style="margin: 0in 0in 0pt\;"><font color="#000000" face="Calibri" size="3">&nbsp\;</font></p>\n\n<p style="margin: 0in 0in 0pt\;"><b><font color="#000000" face="Calibri" size="3">$15 Cash or Check at the Door or\, you may pre-pay via credit card by using the drop down menu and clicking on Membership Meeting &amp\; Luncheon at </font><a href="http://www.santafetexaschamber.com/dues.htm"><font color="#0000ff" face="Calibri" size="3">http://www.santafetexaschamber.com/dues.htm</font></a><font color="#000000" face="Calibri" size="3">. </font></b></p>\n\n<p style="margin: 0in 0in 0pt\;"><font color="#000000" face="Calibri" size="3">&nbsp\;</font></p>\n
LOCATION:Aldersgate United Methodist Church 13217 FM 1764 Rd\, Santa Fe\, TX 77510
UID:e.451.3534
SEQUENCE:3
DTSTAMP:20260425T231705Z
URL:https://www.santafetxchamber.com/events/details/general-membership-meeting-luncheon-08-12-2015-3534
END:VEVENT

END:VCALENDAR
