BEGIN:VCALENDAR
VERSION:2.0
PRODID:-//ChamberMaster//Event Calendar 2.0//EN
METHOD:PUBLISH
X-PUBLISHED-TTL:P3D
REFRESH-INTERVAL:P3D
CALSCALE:GREGORIAN
BEGIN:VEVENT
DTSTART:20160810T163000Z
DTEND:20160810T180000Z
X-MICROSOFT-CDO-ALLDAYEVENT:FALSE
SUMMARY:General Membership Meeting & Luncheon
DESCRIPTION:Please join us for the Monthly General Membership Meeting and Luncheon.\n\n\n\nSpeaker: Congressman Randy Weber will provide a legislative update\n\n\n\nWe will also host a Ribbon Cutting for Childhood Cancer Connection\n\nChildhood Cancer Connection is a non-profit 501 (c)(3) organization supporting children and their families diagnosed with cancer and blood disorders. Activities include: The Rainbow Connection Camp\, community education\, holiday parties\, parent support activities\, and outings.\n\n\n\nSpotlight Table(s): Libbie's Place Senior Day Care\n\n                              Childhood Cancer Connection\n\n\n\nLunch is $15.00 per person. Advance purchase available at www.santafetexaschamber.com/dues using the drop down menu.\n\n\n\nPlease RSVP by Monday at 4:00 p.m. prior to meeting.
X-ALT-DESC;FMTTYPE=text/html:<span style="font-family:comic sans ms\;">Please join us for the Monthly General Membership Meeting and Luncheon.<br />\n<br />\nSpeaker: Congressman Randy Weber will provide a legislative update<br />\n<br />\nWe will also host a Ribbon Cutting for Childhood Cancer Connection</span><br />\n<span style="color: rgb(47\, 138\, 212)\; font-family: Arial\, Helvetica\, sans-serif\; line-height: 18px\;"><span style="font-family:comic sans ms\;">Childhood Cancer Connection is a non-profit 501 (c)(3) organization supporting children and their families diagnosed with cancer and blood disorders. Activities include: The Rainbow Connection Camp\, community education\, holiday parties\, parent support activities\, and outings</span></span><span style="color: rgb(47\, 138\, 212)\; font-family: Arial\, Helvetica\, sans-serif\; font-size: 12px\; line-height: 18px\;">.</span><br />\n<br />\n<span style="font-family:comic sans ms\;">Spotlight Table(s): Libbie&#39\;s Place Senior Day Care<br />\n&nbsp\;&nbsp\; &nbsp\; &nbsp\; &nbsp\; &nbsp\; &nbsp\; &nbsp\; &nbsp\; &nbsp\; &nbsp\; &nbsp\; &nbsp\; &nbsp\; &nbsp\; &nbsp\;Childhood Cancer Connection</span><br />\n<br />\n<span style="font-family: 'comic sans ms'\; line-height: 20.8px\;">Lunch is $15.00 per person. Advance purchase available at&nbsp\;</span><a href="http://www.santafetexaschamber.com/dues" style="font-family: 'comic sans ms'\; line-height: 20.8px\;">www.santafetexaschamber.com/dues</a><span style="font-family: 'comic sans ms'\; line-height: 20.8px\;">&nbsp\;using the drop down menu.</span><br />\n<br style="font-family: 'comic sans ms'\; line-height: 20.8px\;" />\n<span style="font-family: 'comic sans ms'\; line-height: 20.8px\;">Please RSVP by Monday at 4:00 p.m. prior to meeting.</span><br />\n<br />\n&nbsp\;
LOCATION:Pentecostals of Santa Fe (back building) 12811 FM 1764 Santa Fe\, Texas
UID:e.451.5172
SEQUENCE:3
DTSTAMP:20260425T011004Z
URL:https://www.santafetxchamber.com/events/details/general-membership-meeting-luncheon-08-10-2016-5172
END:VEVENT

END:VCALENDAR
