BEGIN:VCALENDAR
VERSION:2.0
PRODID:-//ChamberMaster//Event Calendar 2.0//EN
METHOD:PUBLISH
X-PUBLISHED-TTL:P3D
REFRESH-INTERVAL:P3D
CALSCALE:GREGORIAN
BEGIN:VEVENT
DTSTART:20150610T163000Z
DTEND:20150610T180000Z
X-MICROSOFT-CDO-ALLDAYEVENT:FALSE
SUMMARY:General Membership Meeting/Luncheon
DESCRIPTION:Please join us for the Monthly General Membership Meeting/Luncheon\n\nSpeaker: Terry Hudson - The Power of YouTube Marketing\n\nTerry Hudson is an expert on video marketing using YouTube. YouTube is the 2nd largest search engine in the world and in his talk\, Terry will reveal some closely held tips on how to get your business videos optimized and ranked on Google.  \n\nGoogle loves YouTube and this is your chance to learn how to use simple videos to get additional traffic to your website and ultimately give you a call.\n\n\n\nWe will also be having a Ribbon Cutting for Biz Boost during the meeting. \n\nPrice: $15.00
X-ALT-DESC;FMTTYPE=text/html:Please join us for the Monthly General Membership Meeting/Luncheon<br />\nSpeaker: Terry&nbsp\;Hudson - The Power of YouTube Marketing<br />\n<span style="font-size: medium\;"><span style="font-family: verdana\,sans-serif\;"><span style="color: rgb(51\, 51\, 51)\;">Terry Hudson is an expert on video marketing using YouTube. YouTube is the 2nd largest search engine in the world and in his talk\, Terry will reveal some closely held tips on how to get your business videos optimized and ranked on Google. </span></span><span style="font-family: arial\,sans-serif\;"><span style="color: rgb(51\, 51\, 51)\;">&#8203\;</span></span></span><br />\n<span style="font-family: verdana\,sans-serif\;"><span style="color: rgb(51\, 51\, 51)\;"><span style="font-size: medium\;">Google loves YouTube and this is your chance to learn how to use simple videos to get additional traffic to your website and ultimately give you a call.</span></span></span><br />\n<br />\nWe will also be having a Ribbon Cutting for Biz Boost during the meeting.&nbsp\;<br />\nPrice: $15.00&nbsp\;&nbsp\;
LOCATION:Aldersgate United Methodist Church 13217 FM 1764 Rd\, Santa Fe\, TX 77510
UID:e.451.3532
SEQUENCE:3
DTSTAMP:20260426T022106Z
URL:https://www.santafetxchamber.com/events/details/general-membership-meeting-luncheon-06-10-2015-3532
END:VEVENT

END:VCALENDAR
