BEGIN:VCALENDAR
VERSION:2.0
PRODID:-//ChamberMaster//Event Calendar 2.0//EN
METHOD:PUBLISH
X-PUBLISHED-TTL:P3D
REFRESH-INTERVAL:P3D
CALSCALE:GREGORIAN
BEGIN:VEVENT
DTSTART:20150513T163000Z
DTEND:20150513T180000Z
X-MICROSOFT-CDO-ALLDAYEVENT:FALSE
SUMMARY:General Membership Meeting/Luncheon
DESCRIPTION:Please join us Wednesday\, May 13 for the Monthly Membership Meeting/Luncheon\n\n\n\nRSVP no later than Tuesday\, May 12 at 12:00 pm\n\n$15.00 per person\n\n\n\nCatered by Tastefully Yours Events and Catering
X-ALT-DESC;FMTTYPE=text/html:Please join us Wednesday\, May 13 for the Monthly Membership Meeting/Luncheon<br />\n<br />\nRSVP no later than Tuesday\, May 12 at 12:00 pm<br />\n$15.00 per person<br />\n<br />\nCatered by Tastefully Yours Events and Catering
LOCATION:Aldersgate United Methodist Church 13217 FM 1764 Rd\, Santa Fe\, TX 77510
UID:e.451.3531
SEQUENCE:3
DTSTAMP:20260426T040148Z
URL:https://www.santafetxchamber.com/events/details/general-membership-meeting-luncheon-05-13-2015-3531
END:VEVENT

END:VCALENDAR
