BEGIN:VCALENDAR
VERSION:2.0
PRODID:-//ChamberMaster//Event Calendar 2.0//EN
METHOD:PUBLISH
X-PUBLISHED-TTL:P3D
REFRESH-INTERVAL:P3D
CALSCALE:GREGORIAN
BEGIN:VEVENT
DTSTART:20160210T173000Z
DTEND:20160210T190000Z
X-MICROSOFT-CDO-ALLDAYEVENT:FALSE
SUMMARY:General Membership Meeting & Luncheon
DESCRIPTION:Please join us for the Monthly General Membership Meeting and Luncheon.\n\n\n\nSpeaker: \n\n\n\nSpotlight Table(s):\n\n\n\nLunch is $15.00 per person. Advance purchase available at www.santafetexaschamber.com/dues using the drop down menu.\n\n\n\nPlease RSVP by Monday at 4:00 p.m. prior to meeting.
X-ALT-DESC;FMTTYPE=text/html:<span style="font-family:comic sans ms\;">Please join us for the Monthly General Membership Meeting and Luncheon.<br />\n<br />\nSpeaker:&nbsp\;<br />\n<br />\nSpotlight Table(s):</span><br />\n<br />\n<span style="font-family: 'comic sans ms'\; line-height: 20.8px\;">Lunch is $15.00 per person. Advance purchase available at&nbsp\;</span><a href="http://www.santafetexaschamber.com/dues" style="font-family: 'comic sans ms'\; line-height: 20.8px\;">www.santafetexaschamber.com/dues</a><span style="font-family: 'comic sans ms'\; line-height: 20.8px\;">&nbsp\;using the drop down menu.</span><br />\n<br style="font-family: 'comic sans ms'\; line-height: 20.8px\;" />\n<span style="font-family: 'comic sans ms'\; line-height: 20.8px\;">Please RSVP by Monday at 4:00 p.m. prior to meeting.</span><br />\n<br />\n&nbsp\;
LOCATION:Pentecostals of Santa Fe (back building) 12811 FM 1764 Santa Fe\, Texas
UID:e.451.5166
SEQUENCE:3
DTSTAMP:20260425T104239Z
URL:https://www.santafetxchamber.com/events/details/general-membership-meeting-luncheon-02-10-2016-5166
END:VEVENT

END:VCALENDAR
