BEGIN:VCALENDAR
VERSION:2.0
PRODID:-//ChamberMaster//Event Calendar 2.0//EN
METHOD:PUBLISH
X-PUBLISHED-TTL:P3D
REFRESH-INTERVAL:P3D
CALSCALE:GREGORIAN
BEGIN:VEVENT
DTSTART:20190127T010000Z
DTEND:20190127T050000Z
X-MICROSOFT-CDO-ALLDAYEVENT:FALSE
SUMMARY:Galveston County Ranchers Association Membership Drive & Scholarship Dance
DESCRIPTION:Come out to the Ed Picket hall January 26th and support the Ranchers Association. They give so much back to our community.\n\n$10 per person\, BYOB AND Paco Garcia spinning some darn good tunes!!  Sounds like one heck of a party!!
X-ALT-DESC;FMTTYPE=text/html:<p style="margin: 0px 0px 6px\; font-family: Helvetica\, Arial\, sans-serif\; color: rgb(29\, 33\, 41)\; font-size: 14px\;">Come out to the Ed Picket hall January 26th and support the Ranchers Association. They give so much back to our community.</p>\n\n<p style="margin: 6px 0px\; font-family: Helvetica\, Arial\, sans-serif\; color: rgb(29\, 33\, 41)\; font-size: 14px\;">$10 per person\, BYOB AND Paco Garcia spinning some darn&nbsp\;good tunes!!&nbsp\; Sounds like one heck of a party!!</p>\n
LOCATION:
UID:e.451.6685
SEQUENCE:3
DTSTAMP:20260423T073932Z
URL:https://www.santafetxchamber.com/events/details/galveston-county-ranchers-association-membership-drive-scholarship-dance-6685
END:VEVENT

END:VCALENDAR
