BEGIN:VCALENDAR
VERSION:2.0
PRODID:-//ChamberMaster//Event Calendar 2.0//EN
METHOD:PUBLISH
X-PUBLISHED-TTL:P3D
REFRESH-INTERVAL:P3D
CALSCALE:GREGORIAN
BEGIN:VEVENT
DTSTART:20170722T230000Z
DTEND:20170723T040000Z
X-MICROSOFT-CDO-ALLDAYEVENT:FALSE
SUMMARY:Galveston County Fair & Rodeo Summer Series Award's Banquet
DESCRIPTION:
X-ALT-DESC;FMTTYPE=text/html:
LOCATION:
UID:e.451.6352
SEQUENCE:3
DTSTAMP:20260424T090333Z
URL:https://www.santafetxchamber.com/events/details/galveston-county-fair-rodeo-summer-series-award-s-banquet-6352
END:VEVENT

END:VCALENDAR
