BEGIN:VCALENDAR
VERSION:2.0
PRODID:-//ChamberMaster//Event Calendar 2.0//EN
METHOD:PUBLISH
X-PUBLISHED-TTL:P3D
REFRESH-INTERVAL:P3D
CALSCALE:GREGORIAN
BEGIN:VEVENT
DTSTART:20190504T123000Z
DTEND:20190504T150000Z
X-MICROSOFT-CDO-ALLDAYEVENT:FALSE
SUMMARY:Fun Run & Ball Drop
DESCRIPTION:Fun Run following by Helicopter Ball Drop Raffle benefits Santa Fe Texas Education Foundation's Classroom Grant Fund
X-ALT-DESC;FMTTYPE=text/html:Fun Run following by Helicopter Ball Drop Raffle benefits Santa Fe Texas Education Foundation&#39\;s Classroom Grant Fund
LOCATION:Santa Fe High School Stadium\, 16000 Hwy 6\, Santa Fe\, TX
UID:e.451.6657
SEQUENCE:3
DTSTAMP:20260423T023750Z
URL:https://www.santafetxchamber.com/events/details/fun-run-ball-drop-6657
END:VEVENT

END:VCALENDAR
