BEGIN:VCALENDAR
VERSION:2.0
PRODID:-//ChamberMaster//Event Calendar 2.0//EN
METHOD:PUBLISH
X-PUBLISHED-TTL:P3D
REFRESH-INTERVAL:P3D
CALSCALE:GREGORIAN
BEGIN:VEVENT
DTSTART:20180822T000000Z
DTEND:20180822T020000Z
X-MICROSOFT-CDO-ALLDAYEVENT:FALSE
SUMMARY:Free Body\, Breath & Mind Workshop
DESCRIPTION:Wondering how to cope with fear\, anxiety\, stress or restlessness?  Attend this free workshops in which you will learn to use Yogic Breathing Techniques to help handle negavite emotions and situations.
X-ALT-DESC;FMTTYPE=text/html:Wondering how to cope with fear\, anxiety\, stress or restlessness?&nbsp\; Attend this free workshops in which you will learn to use Yogic Breathing Techniques to help handle negavite emotions and situations.
LOCATION:
UID:e.451.6641
SEQUENCE:3
DTSTAMP:20260423T163136Z
URL:https://www.santafetxchamber.com/events/details/free-body-breath-mind-workshop-6641
END:VEVENT

END:VCALENDAR
