BEGIN:VCALENDAR
VERSION:2.0
PRODID:-//ChamberMaster//Event Calendar 2.0//EN
METHOD:PUBLISH
X-PUBLISHED-TTL:P3D
REFRESH-INTERVAL:P3D
CALSCALE:GREGORIAN
BEGIN:VEVENT
DTSTART:20171005T233000Z
DTEND:20171006T013000Z
X-MICROSOFT-CDO-ALLDAYEVENT:FALSE
SUMMARY:Fire Safety & Fall Fun Fest
DESCRIPTION:
X-ALT-DESC;FMTTYPE=text/html:
LOCATION:
UID:e.451.6421
SEQUENCE:3
DTSTAMP:20260424T070814Z
URL:https://www.santafetxchamber.com/events/details/fire-safety-fall-fun-fest-6421
END:VEVENT

END:VCALENDAR
