BEGIN:VCALENDAR
VERSION:2.0
PRODID:-//ChamberMaster//Event Calendar 2.0//EN
METHOD:PUBLISH
X-PUBLISHED-TTL:P3D
REFRESH-INTERVAL:P3D
CALSCALE:GREGORIAN
BEGIN:VEVENT
DTSTART:20180807T140000Z
DTEND:20180807T160000Z
X-MICROSOFT-CDO-ALLDAYEVENT:FALSE
SUMMARY:Financial Planning with AFCU
DESCRIPTION:Financial Planning with AMOCO\, Presented by: Cheryl E. Johnson \n\n\n\nPurchasing a home is one of the most important decisions you will make and certainly one of the largest investments. Galveston County Tax Assessor Collector Cheryl E. Johnson will guide you through how best to protect that investment from excessive taxation\, how to be a responsible homeowner with regard to your responsibilities under the Property Tax Code and help you understand your rights as a Texas property owner.\n\n\n\nJoin UWGCM and our partner\, AMOCO Federal Credit Union for this educational workshop on Tuesday\, August 7th from 9:00 am - 11:00 am\, at the UWGCM Training Room. \n\n\n\nThere is no cost to attend but please register to reserve your seat!
X-ALT-DESC;FMTTYPE=text/html:<span style="color: rgb(29\, 33\, 41)\; font-family: Helvetica\, Arial\, sans-serif\; font-size: 14px\;">Financial Planning with AMOCO\, Presented by: Cheryl E. Johnson&nbsp\;</span><br style="color: rgb(29\, 33\, 41)\; font-family: Helvetica\, Arial\, sans-serif\; font-size: 14px\;" />\n<br style="color: rgb(29\, 33\, 41)\; font-family: Helvetica\, Arial\, sans-serif\; font-size: 14px\;" />\n<span style="color: rgb(29\, 33\, 41)\; font-family: Helvetica\, Arial\, sans-serif\; font-size: 14px\;">Purchasing a home is one of the most important decisions you will make and certainly one of the largest investments. Galveston County Tax Assessor Collector Cheryl E. Johnson will guide you through how best to protect that investment from excessive taxation\, how to be a responsible homeowner with regard to your responsibilities under the Property Tax Code and help you understand your rights as a Texas property owner.</span><br style="color: rgb(29\, 33\, 41)\; font-family: Helvetica\, Arial\, sans-serif\; font-size: 14px\;" />\n<br style="color: rgb(29\, 33\, 41)\; font-family: Helvetica\, Arial\, sans-serif\; font-size: 14px\;" />\n<span style="color: rgb(29\, 33\, 41)\; font-family: Helvetica\, Arial\, sans-serif\; font-size: 14px\;">Join UWGCM and our partner\, AMOCO Federal Credit Union for this educational workshop on Tuesday\, August 7th from 9:00 am - 11:00 am\, at the UWGCM Training Room.&nbsp\;</span><br style="color: rgb(29\, 33\, 41)\; font-family: Helvetica\, Arial\, sans-serif\; font-size: 14px\;" />\n<br style="color: rgb(29\, 33\, 41)\; font-family: Helvetica\, Arial\, sans-serif\; font-size: 14px\;" />\n<span style="color: rgb(29\, 33\, 41)\; font-family: Helvetica\, Arial\, sans-serif\; font-size: 14px\;">There is no cost to attend but please register to reserve your seat!&nbsp\;</span>
LOCATION:
UID:e.451.6625
SEQUENCE:3
DTSTAMP:20260423T175837Z
URL:https://www.santafetxchamber.com/events/details/financial-planning-with-afcu-6625
END:VEVENT

END:VCALENDAR
