BEGIN:VCALENDAR
VERSION:2.0
PRODID:-//ChamberMaster//Event Calendar 2.0//EN
METHOD:PUBLISH
X-PUBLISHED-TTL:P3D
REFRESH-INTERVAL:P3D
CALSCALE:GREGORIAN
BEGIN:VEVENT
DTSTART:20161105T150000Z
DTEND:20161105T220000Z
X-MICROSOFT-CDO-ALLDAYEVENT:FALSE
SUMMARY:Fill the Fire Truck
DESCRIPTION:
X-ALT-DESC;FMTTYPE=text/html:
LOCATION:"The Old Gym" 13304 Highway 6 Santa Fe\, Texas
UID:e.451.6140
SEQUENCE:3
DTSTAMP:20260424T215225Z
URL:https://www.santafetxchamber.com/events/details/fill-the-fire-truck-6140
END:VEVENT

END:VCALENDAR
