BEGIN:VCALENDAR
VERSION:2.0
PRODID:-//ChamberMaster//Event Calendar 2.0//EN
METHOD:PUBLISH
X-PUBLISHED-TTL:P3D
REFRESH-INTERVAL:P3D
CALSCALE:GREGORIAN
BEGIN:VEVENT
DTSTART:20190208T000000Z
DTEND:20190208T040000Z
X-MICROSOFT-CDO-ALLDAYEVENT:FALSE
SUMMARY:Evening for Education Gala
DESCRIPTION:Click HERE for printable PDF of ticket and sponsorship information.
X-ALT-DESC;FMTTYPE=text/html:Click <a href="https://chambermaster.blob.core.windows.net/userfiles/UserFiles/chambers/451/File/Education_Foundation/SantaFeEduFound2019Galainvite.pdf"><span style="color:#FF0000\;">HERE</span></a> for printable PDF of ticket and sponsorship information.
LOCATION:
UID:e.451.6655
SEQUENCE:3
DTSTAMP:20260423T083240Z
URL:https://www.santafetxchamber.com/events/details/evening-for-education-gala-6655
END:VEVENT

END:VCALENDAR
