BEGIN:VCALENDAR
VERSION:2.0
PRODID:-//ChamberMaster//Event Calendar 2.0//EN
METHOD:PUBLISH
X-PUBLISHED-TTL:P3D
REFRESH-INTERVAL:P3D
CALSCALE:GREGORIAN
BEGIN:VEVENT
DTSTART:20190413T140000Z
DTEND:20190413T210000Z
X-MICROSOFT-CDO-ALLDAYEVENT:FALSE
SUMMARY:Emergency Preparedness Training
DESCRIPTION:The Community Emergency Response Team Program educates people about disaster preparedness for hazzards that may impact their area.  Become a part of the CERT program...
X-ALT-DESC;FMTTYPE=text/html:The Community Emergency Response Team Program educates people about disaster preparedness for hazzards that may impact their area.&nbsp\; Become a part of the CERT program...
LOCATION:
UID:e.451.7245
SEQUENCE:3
DTSTAMP:20260423T032321Z
URL:https://www.santafetxchamber.com/events/details/emergency-preparedness-training-7245
END:VEVENT

END:VCALENDAR
