BEGIN:VCALENDAR
VERSION:2.0
PRODID:-//ChamberMaster//Event Calendar 2.0//EN
METHOD:PUBLISH
X-PUBLISHED-TTL:P3D
REFRESH-INTERVAL:P3D
CALSCALE:GREGORIAN
BEGIN:VEVENT
DTSTART:20190405T233000Z
DTEND:20190406T030000Z
X-MICROSOFT-CDO-ALLDAYEVENT:FALSE
SUMMARY:Emergency Preparedness Training
DESCRIPTION:The Community Emergency Response Team Program educates people about disaster preparedness for hazzards that may impact their area.  Become a part of the CERT program...
X-ALT-DESC;FMTTYPE=text/html:The Community Emergency Response Team Program educates people about disaster preparedness for hazzards that may impact their area.&nbsp\; Become a part of the CERT program...
LOCATION:
UID:e.451.7242
SEQUENCE:3
DTSTAMP:20260423T031934Z
URL:https://www.santafetxchamber.com/events/details/emergency-preparedness-training-7242
END:VEVENT

END:VCALENDAR
