BEGIN:VCALENDAR
VERSION:2.0
PRODID:-//ChamberMaster//Event Calendar 2.0//EN
METHOD:PUBLISH
X-PUBLISHED-TTL:P3D
REFRESH-INTERVAL:P3D
CALSCALE:GREGORIAN
BEGIN:VEVENT
DTSTART;VALUE=DATE:20220507
DTEND;VALUE=DATE:20220508
TRANSP:TRANSPARENT
X-MICROSOFT-CDO-ALLDAYEVENT:TRUE
SUMMARY:Election Day
DESCRIPTION:On April 19th the Chamber hosted a Candidate Forum. Participants were\n\nPosition 4: Jarrad Moore & John Dickerson\n\nPosition 5: Rusty Schroeder\n\nMayor: Bill Pittman and Fidencio Leija\n\nDrainage District 1: Daniel Woitena and Keith Austin\n\n\n\nClick HERE for the information sheet and bio's
X-ALT-DESC;FMTTYPE=text/html:<span style="font-size:14px\;"><span style="font-family:times new roman\;">On April 19th the Chamber hosted a Candidate Forum. Participants were<br />\nPosition 4: Jarrad Moore &amp\; John Dickerson<br />\nPosition 5: Rusty Schroeder<br />\nMayor: Bill Pittman and Fidencio Leija<br />\nDrainage District 1: Daniel Woitena and Keith Austin<br />\n<br />\nClick <a href="https://chambermaster.blob.core.windows.net/userfiles/UserFiles/chambers/451/File/Handout_2022.pdf"><span style="color:#FF0000\;">HERE</span></a>&nbsp\;for the information sheet and bio&#39\;s</span></span>
LOCATION:
UID:e.451.8141
SEQUENCE:3
DTSTAMP:20260420T184719Z
URL:https://www.santafetxchamber.com/events/details/election-day-8141
END:VEVENT

END:VCALENDAR
