BEGIN:VCALENDAR
VERSION:2.0
PRODID:-//ChamberMaster//Event Calendar 2.0//EN
METHOD:PUBLISH
X-PUBLISHED-TTL:P3D
REFRESH-INTERVAL:P3D
CALSCALE:GREGORIAN
BEGIN:VEVENT
DTSTART:20190405T000000Z
DTEND:20190405T045500Z
X-MICROSOFT-CDO-ALLDAYEVENT:FALSE
SUMMARY:Education Foundation Night at the Galveston County Fair & Rodeo
DESCRIPTION:Come on out to the fair and rodeo for fun family activities. Be sure to choose your favorite Education Foundation when you buy your ticket online\, because they receive a donation!
X-ALT-DESC;FMTTYPE=text/html:Come on out to the fair and rodeo for fun family activities. Be sure to choose your favorite Education Foundation when you buy your ticket online\, because they receive a donation!
LOCATION:Galveston County Fair & Rodeo\, 10 Jack Brooks Road\, Hitchcock\, Texas 77563
UID:e.451.6656
SEQUENCE:3
DTSTAMP:20260423T061258Z
URL:https://www.santafetxchamber.com/events/details/education-foundation-night-at-the-galveston-county-fair-rodeo-6656
END:VEVENT

END:VCALENDAR
