BEGIN:VCALENDAR
VERSION:2.0
PRODID:-//ChamberMaster//Event Calendar 2.0//EN
METHOD:PUBLISH
X-PUBLISHED-TTL:P3D
REFRESH-INTERVAL:P3D
CALSCALE:GREGORIAN
BEGIN:VEVENT
DTSTART:20150715T230000Z
DTEND:20150716T010000Z
X-MICROSOFT-CDO-ALLDAYEVENT:FALSE
SUMMARY:Economic Development Committee Meeting
DESCRIPTION:Economic Development Committee Meeting @ City Hall\n\n6 p.m.
X-ALT-DESC;FMTTYPE=text/html:Economic Development Committee Meeting @ City Hall<br />\n6 p.m.
LOCATION:
UID:e.451.4101
SEQUENCE:3
DTSTAMP:20260426T005012Z
URL:https://www.santafetxchamber.com/events/details/economic-development-committee-meeting-07-15-2015-4101
END:VEVENT

END:VCALENDAR
